BEGIN:VCALENDAR
VERSION:2.0
PRODID:-//rssny.org//NONSGML kigkonsult.se iCalcreator 2.30.10//
CALSCALE:GREGORIAN
METHOD:PUBLISH
UID:41defd7b-141f-48a5-b85a-7f95f36f883e
X-WR-CALDESC:'Celebrate the season with us this Wednesday! Enjoy a spring c
 oncert by the Flume Orchestra here at RSS\, with refreshments to follow.
X-WR-RELCALID:2b893f18e443b7e26219e38e46161ecf
X-WR-TIMEZONE:America/New_York
BEGIN:VTIMEZONE
TZID:America/New_York
BEGIN:STANDARD
TZNAME:EST
DTSTART:20251102T020000
TZOFFSETFROM:-0400
TZOFFSETTO:-0500
RDATE:20261101T020000
END:STANDARD
BEGIN:DAYLIGHT
TZNAME:EDT
DTSTART:20260308T020000
TZOFFSETFROM:-0500
TZOFFSETTO:-0400
RDATE:20270314T020000
END:DAYLIGHT
END:VTIMEZONE
BEGIN:VEVENT
UID:1e1ce42a-9848-4445-b410-207267964a36
DTSTAMP:20260422T125311Z
DESCRIPTION:'Celebrate the season with us this Wednesday! Enjoy a spring co
 ncert by the Flume Orchestra here at RSS\, with refreshments to follow.
DTSTART;TZID=America/New_York:20260422T153000
DTEND;TZID=America/New_York:20260422T161500
LOCATION:
SUMMARY:Flume Concert
END:VEVENT
END:VCALENDAR
