BEGIN:VCALENDAR
VERSION:2.0
PRODID:-//rssny.org//NONSGML kigkonsult.se iCalcreator 2.30.10//
CALSCALE:GREGORIAN
METHOD:PUBLISH
UID:0b53bb47-77d0-4025-91c2-b31680b18357
X-WR-CALDESC:Join us for breakfast at the Center!
X-WR-RELCALID:deaa8d5ae78dda5413b865d980ae84ad
X-WR-TIMEZONE:America/New_York
BEGIN:VTIMEZONE
TZID:America/New_York
BEGIN:STANDARD
TZNAME:EST
DTSTART:20251102T020000
TZOFFSETFROM:-0400
TZOFFSETTO:-0500
RDATE:20261101T020000
END:STANDARD
BEGIN:DAYLIGHT
TZNAME:EDT
DTSTART:20260308T020000
TZOFFSETFROM:-0500
TZOFFSETTO:-0400
RDATE:20270314T020000
END:DAYLIGHT
END:VTIMEZONE
BEGIN:VEVENT
UID:f744adc0-7c32-42d7-9019-78d931f10073
DTSTAMP:20260422T125128Z
DESCRIPTION:Join us for breakfast at the Center!
DTSTART;TZID=America/New_York:20260422T090000
DTEND;TZID=America/New_York:20260422T100000
LOCATION:
SUMMARY:Breakfast Club (In Center)
END:VEVENT
END:VCALENDAR
